BEGIN:VCALENDAR
VERSION:2.0
PRODID:icalendar-ruby
CALSCALE:GREGORIAN
METHOD:PUBLISH
BEGIN:VEVENT
DTSTAMP:20260421T040732Z
UID:11-358839@lfumc.org
DTSTART:20261018T140000Z
DTEND:20261018T150000Z
CLASS:PUBLIC
CREATED:20260420T212008
DESCRIPTION:
LAST-MODIFIED:20260420T212008
LOCATION:
SUMMARY:Sunday Worship
URL;VALUE=URI:https://lfumc.org/events/sunday-worship/2026-10-18
END:VEVENT
END:VCALENDAR
